BEGIN:VCALENDAR
VERSION:2.0
PRODID:-//Kimberley Health Professional Network - ECPv6.15.20//NONSGML v1.0//EN
CALSCALE:GREGORIAN
METHOD:PUBLISH
X-ORIGINAL-URL:https://khpn.com.au
X-WR-CALDESC:Events for Kimberley Health Professional Network
REFRESH-INTERVAL;VALUE=DURATION:PT1H
X-Robots-Tag:noindex
X-PUBLISHED-TTL:PT1H
BEGIN:VTIMEZONE
TZID:Australia/Perth
BEGIN:STANDARD
TZOFFSETFROM:+0800
TZOFFSETTO:+0800
TZNAME:AWST
DTSTART:20200101T000000
END:STANDARD
END:VTIMEZONE
BEGIN:VEVENT
DTSTART;TZID=Australia/Perth:20210914T180000
DTEND;TZID=Australia/Perth:20210914T190000
DTSTAMP:20260424T184634
CREATED:20210810T025749Z
LAST-MODIFIED:20210810T025749Z
UID:10001254-1631642400-1631646000@khpn.com.au
SUMMARY:Life Now Meditation - Broome
DESCRIPTION:Meditation can generally be defined as a self-directed practice for relaxing the body and calming the mind. Meditation can help improve quality of life for people with cancer. Research suggests it is useful for treating chronic pain and insomnia\, and can help reduce anxiety\, stress\, and blood pressure. \n\nLife Now Meditation is offered to West Australians who have been diagnosed with cancer\, or who have experienced a recurrence\, secondary or progression\, in the last five years. Primary carers are also eligible to attend (by themselves\, or in support of a cancer patient)\, and are invited to register. This course is offered at an introductory level\, with classes running one hour per week\, for six weeks. \n  \nInterested in participating in a Life Now Program? \nComplete the Life Now Life Now Application Form or call 13 11 20. \n 
URL:https://khpn.com.au/event/https-www-cancerwa-asn-au-articles-calendar-exerciseyogarelaxation-life-now-life-now-meditation-broome-fbclidiwar1gwxsvdusowm7u0zn6pyhwkssmnd6jngyb7dkaehqzawa10bycgjuznwa/2021-09-14/
LOCATION:Broome Recreation & Aquatic Centre\, Cable Beach Rd\, Broome\, WA\, 6725\, Australia
CATEGORIES:Health
END:VEVENT
BEGIN:VEVENT
DTSTART;TZID=Australia/Perth:20210907T180000
DTEND;TZID=Australia/Perth:20210907T190000
DTSTAMP:20260424T184634
CREATED:20210810T025749Z
LAST-MODIFIED:20210810T025749Z
UID:10001253-1631037600-1631041200@khpn.com.au
SUMMARY:Life Now Meditation - Broome
DESCRIPTION:Meditation can generally be defined as a self-directed practice for relaxing the body and calming the mind. Meditation can help improve quality of life for people with cancer. Research suggests it is useful for treating chronic pain and insomnia\, and can help reduce anxiety\, stress\, and blood pressure. \n\nLife Now Meditation is offered to West Australians who have been diagnosed with cancer\, or who have experienced a recurrence\, secondary or progression\, in the last five years. Primary carers are also eligible to attend (by themselves\, or in support of a cancer patient)\, and are invited to register. This course is offered at an introductory level\, with classes running one hour per week\, for six weeks. \n  \nInterested in participating in a Life Now Program? \nComplete the Life Now Life Now Application Form or call 13 11 20. \n 
URL:https://khpn.com.au/event/https-www-cancerwa-asn-au-articles-calendar-exerciseyogarelaxation-life-now-life-now-meditation-broome-fbclidiwar1gwxsvdusowm7u0zn6pyhwkssmnd6jngyb7dkaehqzawa10bycgjuznwa/2021-09-07/
LOCATION:Broome Recreation & Aquatic Centre\, Cable Beach Rd\, Broome\, WA\, 6725\, Australia
CATEGORIES:Health
END:VEVENT
BEGIN:VEVENT
DTSTART;TZID=Australia/Perth:20210831T180000
DTEND;TZID=Australia/Perth:20210831T190000
DTSTAMP:20260424T184634
CREATED:20210810T025749Z
LAST-MODIFIED:20210810T025749Z
UID:10001252-1630432800-1630436400@khpn.com.au
SUMMARY:Life Now Meditation - Broome
DESCRIPTION:Meditation can generally be defined as a self-directed practice for relaxing the body and calming the mind. Meditation can help improve quality of life for people with cancer. Research suggests it is useful for treating chronic pain and insomnia\, and can help reduce anxiety\, stress\, and blood pressure. \n\nLife Now Meditation is offered to West Australians who have been diagnosed with cancer\, or who have experienced a recurrence\, secondary or progression\, in the last five years. Primary carers are also eligible to attend (by themselves\, or in support of a cancer patient)\, and are invited to register. This course is offered at an introductory level\, with classes running one hour per week\, for six weeks. \n  \nInterested in participating in a Life Now Program? \nComplete the Life Now Life Now Application Form or call 13 11 20. \n 
URL:https://khpn.com.au/event/https-www-cancerwa-asn-au-articles-calendar-exerciseyogarelaxation-life-now-life-now-meditation-broome-fbclidiwar1gwxsvdusowm7u0zn6pyhwkssmnd6jngyb7dkaehqzawa10bycgjuznwa/2021-08-31/
LOCATION:Broome Recreation & Aquatic Centre\, Cable Beach Rd\, Broome\, WA\, 6725\, Australia
CATEGORIES:Health
END:VEVENT
BEGIN:VEVENT
DTSTART;TZID=Australia/Perth:20210824T180000
DTEND;TZID=Australia/Perth:20210824T190000
DTSTAMP:20260424T184634
CREATED:20210810T025749Z
LAST-MODIFIED:20210810T025749Z
UID:10001251-1629828000-1629831600@khpn.com.au
SUMMARY:Life Now Meditation - Broome
DESCRIPTION:Meditation can generally be defined as a self-directed practice for relaxing the body and calming the mind. Meditation can help improve quality of life for people with cancer. Research suggests it is useful for treating chronic pain and insomnia\, and can help reduce anxiety\, stress\, and blood pressure. \n\nLife Now Meditation is offered to West Australians who have been diagnosed with cancer\, or who have experienced a recurrence\, secondary or progression\, in the last five years. Primary carers are also eligible to attend (by themselves\, or in support of a cancer patient)\, and are invited to register. This course is offered at an introductory level\, with classes running one hour per week\, for six weeks. \n  \nInterested in participating in a Life Now Program? \nComplete the Life Now Life Now Application Form or call 13 11 20. \n 
URL:https://khpn.com.au/event/https-www-cancerwa-asn-au-articles-calendar-exerciseyogarelaxation-life-now-life-now-meditation-broome-fbclidiwar1gwxsvdusowm7u0zn6pyhwkssmnd6jngyb7dkaehqzawa10bycgjuznwa/2021-08-24/
LOCATION:Broome Recreation & Aquatic Centre\, Cable Beach Rd\, Broome\, WA\, 6725\, Australia
CATEGORIES:Health
END:VEVENT
BEGIN:VEVENT
DTSTART;TZID=Australia/Perth:20210817T180000
DTEND;TZID=Australia/Perth:20210817T190000
DTSTAMP:20260424T184634
CREATED:20210810T025749Z
LAST-MODIFIED:20210810T025749Z
UID:10001250-1629223200-1629226800@khpn.com.au
SUMMARY:Life Now Meditation - Broome
DESCRIPTION:Meditation can generally be defined as a self-directed practice for relaxing the body and calming the mind. Meditation can help improve quality of life for people with cancer. Research suggests it is useful for treating chronic pain and insomnia\, and can help reduce anxiety\, stress\, and blood pressure. \n\nLife Now Meditation is offered to West Australians who have been diagnosed with cancer\, or who have experienced a recurrence\, secondary or progression\, in the last five years. Primary carers are also eligible to attend (by themselves\, or in support of a cancer patient)\, and are invited to register. This course is offered at an introductory level\, with classes running one hour per week\, for six weeks. \n  \nInterested in participating in a Life Now Program? \nComplete the Life Now Life Now Application Form or call 13 11 20. \n 
URL:https://khpn.com.au/event/https-www-cancerwa-asn-au-articles-calendar-exerciseyogarelaxation-life-now-life-now-meditation-broome-fbclidiwar1gwxsvdusowm7u0zn6pyhwkssmnd6jngyb7dkaehqzawa10bycgjuznwa/2021-08-17/
LOCATION:Broome Recreation & Aquatic Centre\, Cable Beach Rd\, Broome\, WA\, 6725\, Australia
CATEGORIES:Health
END:VEVENT
BEGIN:VEVENT
DTSTART;TZID=Australia/Perth:20210810T180000
DTEND;TZID=Australia/Perth:20210810T190000
DTSTAMP:20260424T184634
CREATED:20210810T025749Z
LAST-MODIFIED:20210810T025749Z
UID:10001249-1628618400-1628622000@khpn.com.au
SUMMARY:Life Now Meditation - Broome
DESCRIPTION:Meditation can generally be defined as a self-directed practice for relaxing the body and calming the mind. Meditation can help improve quality of life for people with cancer. Research suggests it is useful for treating chronic pain and insomnia\, and can help reduce anxiety\, stress\, and blood pressure. \n\nLife Now Meditation is offered to West Australians who have been diagnosed with cancer\, or who have experienced a recurrence\, secondary or progression\, in the last five years. Primary carers are also eligible to attend (by themselves\, or in support of a cancer patient)\, and are invited to register. This course is offered at an introductory level\, with classes running one hour per week\, for six weeks. \n  \nInterested in participating in a Life Now Program? \nComplete the Life Now Life Now Application Form or call 13 11 20. \n 
URL:https://khpn.com.au/event/https-www-cancerwa-asn-au-articles-calendar-exerciseyogarelaxation-life-now-life-now-meditation-broome-fbclidiwar1gwxsvdusowm7u0zn6pyhwkssmnd6jngyb7dkaehqzawa10bycgjuznwa/2021-08-10/
LOCATION:Broome Recreation & Aquatic Centre\, Cable Beach Rd\, Broome\, WA\, 6725\, Australia
CATEGORIES:Health
END:VEVENT
END:VCALENDAR