BEGIN:VCALENDAR
VERSION:2.0
PRODID:-//Kimberley Health Professional Network - ECPv6.15.20//NONSGML v1.0//EN
CALSCALE:GREGORIAN
METHOD:PUBLISH
X-WR-CALNAME:Kimberley Health Professional Network
X-ORIGINAL-URL:https://khpn.com.au
X-WR-CALDESC:Events for Kimberley Health Professional Network
REFRESH-INTERVAL;VALUE=DURATION:PT1H
X-Robots-Tag:noindex
X-PUBLISHED-TTL:PT1H
BEGIN:VTIMEZONE
TZID:Australia/Perth
BEGIN:STANDARD
TZOFFSETFROM:+0800
TZOFFSETTO:+0800
TZNAME:AWST
DTSTART:20240101T000000
END:STANDARD
END:VTIMEZONE
BEGIN:VTIMEZONE
TZID:Australia/Sydney
BEGIN:STANDARD
TZOFFSETFROM:+1100
TZOFFSETTO:+1000
TZNAME:AEST
DTSTART:20240406T160000
END:STANDARD
BEGIN:DAYLIGHT
TZOFFSETFROM:+1000
TZOFFSETTO:+1100
TZNAME:AEDT
DTSTART:20241005T160000
END:DAYLIGHT
BEGIN:STANDARD
TZOFFSETFROM:+1100
TZOFFSETTO:+1000
TZNAME:AEST
DTSTART:20250405T160000
END:STANDARD
BEGIN:DAYLIGHT
TZOFFSETFROM:+1000
TZOFFSETTO:+1100
TZNAME:AEDT
DTSTART:20251004T160000
END:DAYLIGHT
BEGIN:STANDARD
TZOFFSETFROM:+1100
TZOFFSETTO:+1000
TZNAME:AEST
DTSTART:20260404T160000
END:STANDARD
BEGIN:DAYLIGHT
TZOFFSETFROM:+1000
TZOFFSETTO:+1100
TZNAME:AEDT
DTSTART:20261003T160000
END:DAYLIGHT
END:VTIMEZONE
BEGIN:VEVENT
DTSTART;TZID=Australia/Perth:20251030T070000
DTEND;TZID=Australia/Perth:20251030T080000
DTSTAMP:20260426T084743
CREATED:20250717T034632Z
LAST-MODIFIED:20250904T050150Z
UID:10002456-1761807600-1761811200@khpn.com.au
SUMMARY:October Morning Minds education - Everyday Restoration: Strategies to Support Resilience & Wellbeing
DESCRIPTION:Rebecca Johnston is a Clinical Counsellor and Sex Therapist with advanced training in couples therapy. Passionate about helping people reconnect with themselves and their relationships\, and improve the quality of their lives\, she draws on professional expertise\, lived experience\, and somatic\, creative\, and nature-inspired approaches to guide others toward balance\, thriving\, and sustainable self-care in life and work. \nSession Info \nEveryday Restoration introduces service providers to practical\, bite-sized self-care strategies to prevent burnout and sustain wellbeing. The session includes a short theoretical overview and demonstrations of mini-exercises that support reconnecting with themselves\, strengthening resilience\, and maintaining wellbeing in work and life—enabling them to care for others without losing themselves. \nRegister HERE
URL:https://khpn.com.au/event/october-morning-minds-education-topic-tbc/
LOCATION:RCS Training Hub\, 1/46 Dampier Tce\, Broome\, Western Australia\, 6725\, Australia
ATTACH;FMTTYPE=image/png:https://khpn.com.au/wp-content/uploads/2025/07/KHPN-Morning-Minds-FP_500px-1.png
ORGANIZER;CN="Kimberley Health Professional Network":MAILTO:sara.hennessy@khpn.com.au
END:VEVENT
BEGIN:VEVENT
DTSTART;TZID=Australia/Sydney:20251113T110000
DTEND;TZID=Australia/Sydney:20251113T120000
DTSTAMP:20260426T084743
CREATED:20250219T091339Z
LAST-MODIFIED:20250219T091339Z
UID:10002417-1763031600-1763035200@khpn.com.au
SUMMARY:TeleHealth Skills Echo | Home Care and Telehealth | Webinar
DESCRIPTION:What is Telehealth Skills ECHO? \nA virtual network to share telehealth knowledge and experiences – increasing knowledge\, capacity and quality health care\nA series of free\, interactive\, case-based virtual mentoring sessions to support telehealth in a range of healthcare settings\nSessions are open to anyone working in healthcare in Northern Australia who are using or considering using telehealth services\nA peer network that decreases professional isolation – improving health outcomes for patients and families \nMonthly development sessions include:\n10 minute\npresentation by telehealth experts\nCase study\ntell us about your telehealth challenge\nQ+A of the presentation and case study – open to all participants \nTelehealth Skills ECHO Curriculum_2025
URL:https://khpn.com.au/event/telehealth-skills-echo-home-care-and-telehealth-webinar/
LOCATION:Online\, WA\, Australia
CATEGORIES:Health
ATTACH;FMTTYPE=image/png:https://khpn.com.au/wp-content/uploads/2025/02/telehealth-skills.png
END:VEVENT
BEGIN:VEVENT
DTSTART;TZID=Australia/Sydney:20251118T110000
DTEND;TZID=Australia/Sydney:20251118T120000
DTSTAMP:20260426T084743
CREATED:20250219T075721Z
LAST-MODIFIED:20250312T085542Z
UID:10002407-1763463600-1763467200@khpn.com.au
SUMMARY:Project Echo – Palliative Care | Grief and Bereavement – Session 2 | Webinar
DESCRIPTION:ECHO programs offer free interactive online training bringing health professionals and primary care together to share knowledge\, ideas\, and experiences\, fostering a friendly supportive environment. These monthly sessions run for an hour from 11.00am to 12.00pm WA and are open to all health care staff including Nursing\, Allied health\, GP’s\, Community health and Indigenous health workers. \nPalliative Care ECHO is a series of interactive virtual mentoring sessions that addresses a range of palliative care topics. It aims to increase palliative care knowledge\, skills and confidence in health professionals. \nEach 1 hour session consists of: \n\nA 10-minute presentation from a multidisciplinary specialist palliative care team\nA case presentation by a primary care professional\nOpportunities for Q&A and discussion\n\nPalliative Care ECHO Benefits \n\nA virtual network to share palliative care knowledge and experiences\nConnect with multidisciplinary specialist teams\nImprove palliative care knowledge and skills\nIncrease confidence to support someone with a life-limiting illness and their family\nIncrease job satisfaction and promote peer support between health services
URL:https://khpn.com.au/event/project-echo-palliative-care-grief-and-bereavement-session-2-webinar/
LOCATION:Online\, WA\, Australia
CATEGORIES:Health
ORGANIZER;CN="Project Echo - Palliative Care":MAILTO:palliativecareecho@uq.edu.au
END:VEVENT
BEGIN:VEVENT
DTSTART;TZID=Australia/Perth:20251119T120000
DTEND;TZID=Australia/Perth:20251119T130000
DTSTAMP:20260426T084743
CREATED:20251111T023700Z
LAST-MODIFIED:20251111T023700Z
UID:10002461-1763553600-1763557200@khpn.com.au
SUMMARY:Enhancing men’s and women’s health in primary care | Webinar
DESCRIPTION:
URL:https://khpn.com.au/event/enhancing-mens-and-womens-health-in-primary-care-webinar/
LOCATION:Online event\, WA\, Australia
CATEGORIES:Health
ATTACH;FMTTYPE=image/jpeg:https://khpn.com.au/wp-content/uploads/2025/11/WAPHA-enhancing-mens-and-womens-health.jpg
ORGANIZER;CN="WAPHA":MAILTO:amy.pearce@wapha.org.au
END:VEVENT
BEGIN:VEVENT
DTSTART;TZID=Australia/Perth:20251127T070000
DTEND;TZID=Australia/Perth:20251127T080000
DTSTAMP:20260426T084743
CREATED:20250717T034733Z
LAST-MODIFIED:20251112T012957Z
UID:10002457-1764226800-1764230400@khpn.com.au
SUMMARY:November Morning Minds education -ADHD prescribing in 2025 - A stimulating discussion
DESCRIPTION:Thursday 27 November | 7.00am – 8.00am\nADHD Prescribing in 2025: A Stimulating Discussion!\nPresented by Dr Andrew Savery\nSenior Regional Paediatrician\, WA Country Health Service (WACHS) – Kimberley \n  \nBook HERE
URL:https://khpn.com.au/event/november-morning-minds-education-topic-tbc/
LOCATION:RCS Training Hub\, 1/46 Dampier Tce\, Broome\, Western Australia\, 6725\, Australia
ATTACH;FMTTYPE=image/png:https://khpn.com.au/wp-content/uploads/2025/07/KHPN-Morning-Minds-FP_500px-1.png
ORGANIZER;CN="Kimberley Health Professional Network":MAILTO:sara.hennessy@khpn.com.au
END:VEVENT
BEGIN:VEVENT
DTSTART;TZID=Australia/Perth:20260213T170000
DTEND;TZID=Australia/Perth:20260213T193000
DTSTAMP:20260426T084743
CREATED:20251112T014101Z
LAST-MODIFIED:20260120T040519Z
UID:10002462-1771002000-1771011000@khpn.com.au
SUMMARY:Broome - Welcome to 2026 event - Register now!
DESCRIPTION:Friday 13th February | 5.00pm – 7.30pm | Broome RSL\nFREE!! Dinner and welcome drink provided \nFamily friendly \n  \nBOOK HERE
URL:https://khpn.com.au/event/save-the-date-broome-welcome-to-2026-event/
LOCATION:Broome RSL\, Robinson St\, Broome\, Western Australia\, 6725\, Australia
ORGANIZER;CN="Kimberley Health Professional Network":MAILTO:sara.hennessy@khpn.com.au
END:VEVENT
BEGIN:VEVENT
DTSTART;TZID=Australia/Perth:20260225T183000
DTEND;TZID=Australia/Perth:20260225T203000
DTSTAMP:20260426T084743
CREATED:20260120T041841Z
LAST-MODIFIED:20260120T041841Z
UID:10002466-1772044200-1772051400@khpn.com.au
SUMMARY:Managing patient depression and suicidality in primary care - Broome
DESCRIPTION:Broome | Wednesday 25 February 2026\, 6.30pm-8.30pm \nComplex mental health cases? Let’s talk—over dinner \nJoin Dr Gabby Touyz and Dr Des Taverner\, along with your local colleagues for a case-based dinner meeting focused on managing patient depression and suicidality in primary care. Places are limited to ensure the dinner meeting remains intimate and supports in-depth and confidential discussion. This evening will provide: \n\nIn-person Q&A with a psychiatrist\nPractical strategies for complex presentations\nGreater confidence in assessment & prescribing\nUpdates on local referral pathways\nBuild your local GP mental health network\n\nRegister HERE to secure you place at the table
URL:https://khpn.com.au/event/managing-patient-depression-and-suicidality-in-primary-care-broome/
LOCATION:RCS Training Hub\, 1/46 Dampier Tce\, Broome\, Western Australia\, 6725\, Australia
ATTACH;FMTTYPE=image/png:https://khpn.com.au/wp-content/uploads/2026/01/Managing-Depression-and-Suicidality-PGL-E-Bulletin-900px.png
ORGANIZER;CN="Kimberley Health Professional Network":MAILTO:sara.hennessy@khpn.com.au
END:VEVENT
BEGIN:VEVENT
DTSTART;TZID=Australia/Perth:20260226T070000
DTEND;TZID=Australia/Perth:20260226T080000
DTSTAMP:20260426T084743
CREATED:20260120T041257Z
LAST-MODIFIED:20260120T041445Z
UID:10002465-1772089200-1772092800@khpn.com.au
SUMMARY:February Morning Minds education - Beyond saying ‘Just Exercise’: Why Standard Advice Falls Short
DESCRIPTION:Beyond saying ‘Just Exercise’: Why Standard Advice Falls Short \nFocusing on patients with significant weight loss goals\, the role weight loss drugs in addition to exercise prescription can result in long term health gains. \n  \nPresenter – Sherylyn Fimmel – Exercise Physiologist \nDate:- Thursday 26 February \nWhere:- Rural Clinical School Training Hub\, 1/46 Dampier Tce (near the Kennedy Hill Lookout) \nTime:- 7am – 8am (please arrive from 6.45am) \nA light breakfast is included! \n  \nBook HERE
URL:https://khpn.com.au/event/february-morning-minds-education-beyond-saying-just-exercise-why-standard-advice-falls-short/
LOCATION:RCS Training Hub\, 1/46 Dampier Tce\, Broome\, Western Australia\, 6725\, Australia
ATTACH;FMTTYPE=image/png:https://khpn.com.au/wp-content/uploads/2025/07/KHPN-Morning-Minds-FP_500px-1.png
ORGANIZER;CN="Kimberley Health Professional Network":MAILTO:sara.hennessy@khpn.com.au
END:VEVENT
BEGIN:VEVENT
DTSTART;TZID=Australia/Perth:20260226T170000
DTEND;TZID=Australia/Perth:20260226T183000
DTSTAMP:20260426T084743
CREATED:20251201T055040Z
LAST-MODIFIED:20260120T040446Z
UID:10002463-1772125200-1772130600@khpn.com.au
SUMMARY:Derby - Welcome to 2026 event - Register now!
DESCRIPTION:Thursday 26 February | 5.00pm – 6.30pm | Mary Island Fishing Club\nFREE!! Complimentary drinks and nibbles \nFamily friendly \n  \nBOOK HERE
URL:https://khpn.com.au/event/save-the-date-derby-welcome-to-2026-event/
LOCATION:Mary Island Fishing Club\, 12 Elder St\, Derby\, WA\, 6728\, Australia
ORGANIZER;CN="Kimberley Health Professional Network":MAILTO:sara.hennessy@khpn.com.au
END:VEVENT
BEGIN:VEVENT
DTSTART;TZID=Australia/Perth:20260305T180000
DTEND;TZID=Australia/Perth:20260305T203000
DTSTAMP:20260426T084743
CREATED:20260120T042107Z
LAST-MODIFIED:20260120T042107Z
UID:10002467-1772733600-1772742600@khpn.com.au
SUMMARY:SAVE THE DATE - Syphilis education training is coming to Kununurra
DESCRIPTION:SAVE THE DATE! \nSyphilis education training is coming to Kununurra thanks to the Department of Health and Rural Health West. \nThursday 5 March | 6pm-8.30pm | Kimberley Grande Hotel | Dinner included \nRegistration link available soon!
URL:https://khpn.com.au/event/save-the-date-syphilis-education-training-is-coming-to-kununurra/
LOCATION:Kimberley Grand Hotel\, Kununurra\, WA\, Australia
ATTACH;FMTTYPE=image/png:https://khpn.com.au/wp-content/uploads/2026/01/syphilis.png
ORGANIZER;CN="Kimberley Health Professional Network":MAILTO:sara.hennessy@khpn.com.au
END:VEVENT
BEGIN:VEVENT
DTSTART;TZID=Australia/Perth:20260306T170000
DTEND;TZID=Australia/Perth:20260306T190000
DTSTAMP:20260426T084743
CREATED:20251201T055812Z
LAST-MODIFIED:20260120T040407Z
UID:10002464-1772816400-1772823600@khpn.com.au
SUMMARY:Kununurra - Welcome to 2026 event - Register now!
DESCRIPTION:Friday 6 March | 5.00pm – 7.00pm | Poolside – Kimberley Grande Hotel\nFREE!! Complimentary welcome drinks and nibbles \nFamily friendly \nBring your bathers for a swim! \nBOOK HERE
URL:https://khpn.com.au/event/save-the-date-kununurra-welcome-to-2026-event/
LOCATION:Kimberley Grande Resort\, 20 Victoria Highway\, Kununurra\, WA\, 6743\, Australia
ORGANIZER;CN="Kimberley Health Professional Network":MAILTO:sara.hennessy@khpn.com.au
END:VEVENT
BEGIN:VEVENT
DTSTART;TZID=Australia/Perth:20260319T120000
DTEND;TZID=Australia/Perth:20260319T130000
DTSTAMP:20260426T084743
CREATED:20260317T064729Z
LAST-MODIFIED:20260317T064729Z
UID:10002468-1773921600-1773925200@khpn.com.au
SUMMARY:WAPHA Learning | The Big 5 | Webinar
DESCRIPTION:What if supporting people’s mental health could be as straightforward as the advice we provide about diet and exercise? \nWA Primary Health Alliance and MindSpot GP invite health professionals in WA to attend our regional webinar about The Big 5 evidence-based activities that are most strongly linked to better mental health. \nThis interactive session will cover the following: \n\nA summary of the research behind The Big 5\, involving thousands of people across Australia and overseas.\n\n\nThe Big 5 evidence-based activities that people can do for better mental health.\n\n\nSimple\, practical strategies that people can use to integrate The Big 5 into their daily lives.
URL:https://khpn.com.au/event/wapha-learning-the-big-5-webinar/
LOCATION:Online event\, WA\, Australia
CATEGORIES:Health
ATTACH;FMTTYPE=image/png:https://khpn.com.au/wp-content/uploads/2026/03/Mindspot-WAPHA.png
ORGANIZER;CN="WAPHA":MAILTO:amy.pearce@wapha.org.au
END:VEVENT
BEGIN:VEVENT
DTSTART;TZID=Australia/Perth:20260521T130000
DTEND;TZID=Australia/Perth:20260521T150000
DTSTAMP:20260426T084744
CREATED:20260416T052937Z
LAST-MODIFIED:20260416T052937Z
UID:10002469-1779368400-1779375600@khpn.com.au
SUMMARY:Syphilis education training Halls Creek
DESCRIPTION:  \nSyphilis education training is coming to Halls Creek thanks to the Department of Health and Rural Health West. \nThursday 21 May | 1pm-3pm | Halls Creek Hospital conference room | afternoon tea provided \nRegister HERE
URL:https://khpn.com.au/event/syphilis-education-training-halls-creek/
LOCATION:Hall Creek Hospital conference room
ATTACH;FMTTYPE=image/png:https://khpn.com.au/wp-content/uploads/2026/01/syphilis.png
ORGANIZER;CN="Kimberley Health Professional Network":MAILTO:sara.hennessy@khpn.com.au
END:VEVENT
BEGIN:VEVENT
DTSTART;TZID=Australia/Perth:20260522T113000
DTEND;TZID=Australia/Perth:20260522T130000
DTSTAMP:20260426T084744
CREATED:20260416T053227Z
LAST-MODIFIED:20260416T053227Z
UID:10002470-1779449400-1779454800@khpn.com.au
SUMMARY:Syphilis education training Fitzroy Crossing
DESCRIPTION:  \nSyphilis education training is coming to Halls Creek thanks to the Department of Health and Rural Health West. \nFriday 22 May | 11.30am -1pm | Fitzroy Crossing Hospital conference room | Lunch provided \nRegister HERE
URL:https://khpn.com.au/event/syphilis-education-training-fitzroy-crossing/
LOCATION:Fitzroy Crossing Hospital training room
ATTACH;FMTTYPE=image/png:https://khpn.com.au/wp-content/uploads/2026/01/syphilis.png
ORGANIZER;CN="Kimberley Health Professional Network":MAILTO:sara.hennessy@khpn.com.au
END:VEVENT
END:VCALENDAR